BEGIN:VCALENDAR
VERSION:2.0
PRODID:icalendar-ruby
CALSCALE:GREGORIAN
BEGIN:VEVENT
DTSTAMP:20260421T161831Z
UID:6b2062ef-8bf9-4949-99db-ea34b2022a58
DTSTART;VALUE=DATE:20190923
DESCRIPTION:Property ID# 461216\, Time: 5:00PM
SUMMARY:Auction for 
END:VEVENT
END:VCALENDAR
