BEGIN:VCALENDAR
VERSION:2.0
PRODID:icalendar-ruby
CALSCALE:GREGORIAN
BEGIN:VEVENT
DTSTAMP:20260419T162621Z
UID:21e66ac3-d5b2-49ea-8af8-a08ed020f76b
DTSTART;VALUE=DATE:20210218
DESCRIPTION:Property ID# 500915\, Locatoin: Bruce Mason Centre Takapuna\, T
 ime: 10:00AM
SUMMARY:Auction for 
END:VEVENT
END:VCALENDAR
