BEGIN:VCALENDAR
VERSION:2.0
PRODID:icalendar-ruby
CALSCALE:GREGORIAN
BEGIN:VEVENT
DTSTAMP:20260419T161624Z
UID:fcb1d9b4-cf93-4c66-8164-19a05ace6173
DTSTART;VALUE=DATE:20210805
DESCRIPTION:Property ID# 513996\, Locatoin: Bruce Mason Centre Takapuna\, T
 ime: 10:00AM
SUMMARY:Auction for 
END:VEVENT
END:VCALENDAR
