BEGIN:VCALENDAR
VERSION:2.0
PRODID:icalendar-ruby
CALSCALE:GREGORIAN
BEGIN:VEVENT
DTSTAMP:20260419T161221Z
UID:8b0d8cd5-573d-4b47-8a80-1c932e39077c
DTSTART;VALUE=DATE:20211118
DESCRIPTION:Property ID# 520391\, Locatoin: 34 Shortland Street Auckland\, 
 Time: 10:00AM
SUMMARY:Auction for 
END:VEVENT
END:VCALENDAR
