BEGIN:VCALENDAR
VERSION:2.0
PRODID:icalendar-ruby
CALSCALE:GREGORIAN
BEGIN:VEVENT
DTSTAMP:20260421T162442Z
UID:d54ddec3-e1df-4de1-bdbc-9d8a3b3f3604
DTSTART;VALUE=DATE:20211130
DESCRIPTION:Property ID# 522032\, Locatoin: On Line via phone bidding\, Tim
 e: 2:00PM
SUMMARY:Auction for 
END:VEVENT
END:VCALENDAR
