BEGIN:VCALENDAR
VERSION:2.0
PRODID:icalendar-ruby
CALSCALE:GREGORIAN
BEGIN:VEVENT
DTSTAMP:20260419T161802Z
UID:be2e2e3c-202d-4155-a919-75b92b816157
DTSTART;VALUE=DATE:20221013
DESCRIPTION:Property ID# 544147\, Locatoin: 8-12 The Promenade\, Takapuna \
 , Time: 10:00AM
SUMMARY:Auction for 
END:VEVENT
END:VCALENDAR
