BEGIN:VCALENDAR
VERSION:2.0
PRODID:icalendar-ruby
CALSCALE:GREGORIAN
BEGIN:VEVENT
DTSTAMP:20260423T081401Z
UID:bec62b86-e50a-4d06-a74b-636223055871
DTSTART;VALUE=DATE:20240326
DESCRIPTION:Property ID# 571927\, Locatoin: In Rooms\, 128 Hurstmere Road\,
  Takapuna (USP)\, Time: 1:00PM
SUMMARY:Auction for 
END:VEVENT
END:VCALENDAR
