BEGIN:VCALENDAR
VERSION:2.0
PRODID:icalendar-ruby
CALSCALE:GREGORIAN
BEGIN:VEVENT
DTSTAMP:20260419T160917Z
UID:3657d372-ba87-4533-9e93-c7ce2195c53e
DTSTART;VALUE=DATE:20241128
DESCRIPTION:Property ID# 584061\, Locatoin: 8-12 The Promenade Takapuna\, T
 ime: 10:00AM
SUMMARY:Auction for 
END:VEVENT
END:VCALENDAR
