BEGIN:VCALENDAR
VERSION:2.0
PRODID:icalendar-ruby
CALSCALE:GREGORIAN
BEGIN:VEVENT
DTSTAMP:20260419T161151Z
UID:0c50e32f-8389-4741-b130-9ca4e8820b86
DTSTART;VALUE=DATE:20250605
DESCRIPTION:Property ID# 592929\, Locatoin: Auction 8-12 The Promenade\, Ta
 kapuna \, Time: 10:00AM
SUMMARY:Auction for 
END:VEVENT
END:VCALENDAR
