BEGIN:VCALENDAR
VERSION:2.0
PRODID:icalendar-ruby
CALSCALE:GREGORIAN
BEGIN:VEVENT
DTSTAMP:20260420T131406Z
UID:a9f33c48-07ac-47b8-88ef-be514a61beef
DTSTART;VALUE=DATE:20250824
DESCRIPTION:Property ID# 595727\, Locatoin: On site unless sold prior\, Tim
 e: 3:00PM
SUMMARY:Auction for 
END:VEVENT
END:VCALENDAR
