BEGIN:VCALENDAR
VERSION:2.0
PRODID:icalendar-ruby
CALSCALE:GREGORIAN
BEGIN:VEVENT
DTSTAMP:20260424T080604Z
UID:d834d4a9-2853-43b4-915d-5d3eb55a1c60
DTSTART;VALUE=DATE:20250902
DESCRIPTION:Property ID# 595986\, Locatoin: On Site (Unless Sold Prior)\, T
 ime: 1:30PM
SUMMARY:Auction for 
END:VEVENT
END:VCALENDAR
