BEGIN:VCALENDAR
VERSION:2.0
PRODID:icalendar-ruby
CALSCALE:GREGORIAN
BEGIN:VEVENT
DTSTAMP:20260420T130915Z
UID:974e6e19-7b79-4504-97f5-2c893ec3d1f4
DTSTART;VALUE=DATE:20251005
DESCRIPTION:Property ID# 597143\, Locatoin: On Site (Unless Sold Prior)\, T
 ime: 12:30PM
SUMMARY:Auction for 
END:VEVENT
END:VCALENDAR
