BEGIN:VCALENDAR
VERSION:2.0
PRODID:icalendar-ruby
CALSCALE:GREGORIAN
BEGIN:VEVENT
DTSTAMP:20260421T162400Z
UID:27150c6e-a8b8-43e7-ba55-06c368238ecc
DTSTART;VALUE=DATE:20260128
DESCRIPTION:Property ID# 601746\, Locatoin: In Rooms at Ray White Manukau O
 ffice\, Time: 12:00PM
SUMMARY:Auction for 
END:VEVENT
END:VCALENDAR
