BEGIN:VCALENDAR
VERSION:2.0
PRODID:icalendar-ruby
CALSCALE:GREGORIAN
BEGIN:VEVENT
DTSTAMP:20260423T094506Z
UID:f1ba7464-e130-4cc6-896f-b70e015f5691
DTSTART;VALUE=DATE:20260305
DESCRIPTION:Property ID# 603093\, Locatoin: In rooms\, 128 Hurstmere Road\,
  Takapuna\, Time: 12:00PM
SUMMARY:Auction for 
END:VEVENT
END:VCALENDAR
