BEGIN:VCALENDAR
VERSION:2.0
PRODID:icalendar-ruby
CALSCALE:GREGORIAN
BEGIN:VEVENT
DTSTAMP:20260421T162409Z
UID:8017289c-42ce-405e-9639-adfb9557002b
DTSTART;VALUE=DATE:20260325
DESCRIPTION:Property ID# 604920\, Locatoin: In Rooms at Ray White Manukau O
 ffice\, Time: 9:00AM
SUMMARY:Auction for 
END:VEVENT
END:VCALENDAR
