BEGIN:VCALENDAR
VERSION:2.0
PRODID:icalendar-ruby
CALSCALE:GREGORIAN
BEGIN:VEVENT
DTSTAMP:20260421T161907Z
UID:2fe72d65-8761-42ac-a821-401fe7b1dea3
DTSTART;VALUE=DATE:20260422
DESCRIPTION:Property ID# 606112\, Locatoin: In Rooms at Ray White Manukau O
 ffice\, Time: 11:00AM
SUMMARY:Auction for 6/436 Great South Road
END:VEVENT
END:VCALENDAR
