BEGIN:VCALENDAR
VERSION:2.0
PRODID:icalendar-ruby
CALSCALE:GREGORIAN
BEGIN:VEVENT
DTSTAMP:20260421T162039Z
UID:61678f00-1167-4632-aa4d-77079bf77b8f
DTSTART;VALUE=DATE:20260422
DESCRIPTION:Property ID# 606113\, Locatoin: In Rooms at Ray White Manukau O
 ffice\, Time: 12:00PM
SUMMARY:Auction for 1 Sutton Avenue
END:VEVENT
END:VCALENDAR
