BEGIN:VCALENDAR
VERSION:2.0
PRODID:icalendar-ruby
CALSCALE:GREGORIAN
BEGIN:VEVENT
DTSTAMP:20260419T140026Z
UID:84d321a6-b20e-4157-855c-bab6bb4c2931
DTSTART;VALUE=DATE:20260416
DESCRIPTION:Property ID# 606115\, Locatoin: The Promenade Takapuna\, Time: 
 10:00AM
SUMMARY:Auction for 9 Redfern Lane
END:VEVENT
END:VCALENDAR
