BEGIN:VCALENDAR
VERSION:2.0
PRODID:icalendar-ruby
CALSCALE:GREGORIAN
BEGIN:VEVENT
DTSTAMP:20260421T105115Z
UID:42d3191d-4f7d-41b5-b7d8-000eca188848
DTSTART;VALUE=DATE:20260521
DESCRIPTION:Property ID# 606650\, Locatoin: 277A Dairy Flat Highway\, Alban
 y\, Time: 3:00PM
SUMMARY:Auction for 744 Coatesville-Riverhead Highway
END:VEVENT
END:VCALENDAR
