BEGIN:VCALENDAR
VERSION:2.0
PRODID:icalendar-ruby
CALSCALE:GREGORIAN
BEGIN:VEVENT
DTSTAMP:20260421T131503Z
UID:422f4112-d6ee-4db8-b73b-dc38df02cd27
DTSTART;VALUE=DATE:20260513
DESCRIPTION:Property ID# 606808\, Locatoin: In Rooms at Ray White Manukau O
 ffice\, Time: 12:00PM
SUMMARY:Auction for 37 Chieftain Rise
END:VEVENT
END:VCALENDAR
