BEGIN:VCALENDAR
VERSION:2.0
PRODID:icalendar-ruby
CALSCALE:GREGORIAN
BEGIN:VEVENT
DTSTAMP:20260424T075323Z
UID:8c45f676-0acf-4cfe-8924-5bce0fe94fc1
DTSTART;TZID=Pacific/Auckland:20260425T150000
DTEND;TZID=Pacific/Auckland:20260425T153000
DESCRIPTION:Property ID# 604744
SUMMARY:Openhome for 62 Dysart Lane
END:VEVENT
END:VCALENDAR
