BEGIN:VCALENDAR
VERSION:2.0
PRODID:icalendar-ruby
CALSCALE:GREGORIAN
BEGIN:VEVENT
DTSTAMP:20260423T110100Z
UID:4500dbd8-9a3e-4d33-b123-136e4011e037
DTSTART;TZID=Pacific/Auckland:20260425T130000
DTEND;TZID=Pacific/Auckland:20260425T134500
DESCRIPTION:Property ID# 606977
SUMMARY:Openhome for 3 Regents Park Place
END:VEVENT
END:VCALENDAR
